BEGIN:VCALENDAR
VERSION:2.0
PRODID:-//eventon.com NONSGML v1.0//EN
CALSCALE:GREGORIAN
METHOD:PUBLISH
BEGIN:VEVENT
UID:69e694e1e5edb
DTSTAMP:20260420T210433Z
DTSTART:20151017T200500Z
DTEND:20151017T235500Z
LOCATION:
SUMMARY:Country Line Cd Avond
DESCRIPTION:  CD Avond m.m.v. Dj Ed\,  Aanvang: 20.00 u t/m 00.30 uur Entr
 ee € 3.00 K&G Countrydancers Den Bosch. www.kgcountrydancers.nl\nhttps://
 debiechten.nl/events/country-line-cd-avond-6/
URL:https://debiechten.nl/events/country-line-cd-avond-6/
END:VEVENT
END:VCALENDAR