BEGIN:VCALENDAR
VERSION:2.0
PRODID:-//eventon.com NONSGML v1.0//EN
CALSCALE:GREGORIAN
METHOD:PUBLISH
BEGIN:VEVENT
UID:69e9bbb622d96
DTSTAMP:20260423T062702Z
DTSTART:20161211T100000Z
DTEND:20161211T160000Z
LOCATION:
SUMMARY:Rommelmarkt
DESCRIPTION:Onze rommelmarkt start om 10:00 uur tot 16:00 Entree is € 1\,
  50 Kramen zijn 250 cm breed en te huur voor € 13\, 00 Voor meer informat
 ie bel Jordy van der Steen : 06 81135591 &nbsp;\nhttps://debiechten.nl/even
 ts/rommelmarkt-16/
URL:https://debiechten.nl/events/rommelmarkt-16/
END:VEVENT
END:VCALENDAR