BEGIN:VCALENDAR
VERSION:2.0
PRODID:-//eventon.com NONSGML v1.0//EN
CALSCALE:GREGORIAN
METHOD:PUBLISH
BEGIN:VEVENT
UID:69e9d07dcc6ac
DTSTAMP:20260423T075541Z
DTSTART:20160406T143000Z
DTEND:20160406T161000Z
LOCATION:
SUMMARY:Kidsbios : Jungle Book
DESCRIPTION:Entree : € 3\, 50 (inclusief zakje chips) &nbsp; Iedere 1e wo
 ensdag van de maand ; Woensdag 6 april om 14:30\nhttps://debiechten.nl/even
 ts/kidsbios-jungle-book/
URL:https://debiechten.nl/events/kidsbios-jungle-book/
END:VEVENT
END:VCALENDAR