BEGIN:VCALENDAR
VERSION:2.0
PRODID:-//eventon.com NONSGML v1.0//EN
CALSCALE:GREGORIAN
METHOD:PUBLISH
BEGIN:VEVENT
UID:69ebf943b1b9b
DTSTAMP:20260424T231411Z
DTSTART:20200406T130000Z
DTEND:20200410T180000Z
LOCATION:
SUMMARY:Maaltijdenservice Hintham
DESCRIPTION:Hier onze maaltijden voor deze week Bewaren\nhttps://debiechten
 .nl/events/maaltijdenservice-hintham-2/
URL:https://debiechten.nl/events/maaltijdenservice-hintham-2/
END:VEVENT
END:VCALENDAR