BEGIN:VCALENDAR
VERSION:2.0
PRODID:-//eventon.com NONSGML v1.0//EN
CALSCALE:GREGORIAN
METHOD:PUBLISH
BEGIN:VEVENT
UID:69e8545173f65
DTSTAMP:20260422T045337Z
DTSTART:20200615T130000Z
DTEND:20200619T180000Z
LOCATION:
SUMMARY:Maaltijdenservice Hintham
DESCRIPTION:Hier onze maaltijden voor deze week. u kunt tot op de dag zelf 
 voor 13:00 bestellen. bel met 06 29 30 58 07 Bewaren\nhttps://debiechten.nl
 /events/maaltijdenservice-hintham-11/
URL:https://debiechten.nl/events/maaltijdenservice-hintham-11/
END:VEVENT
END:VCALENDAR