BEGIN:VCALENDAR
VERSION:2.0
PRODID:-//eventon.com NONSGML v1.0//EN
CALSCALE:GREGORIAN
METHOD:PUBLISH
BEGIN:VEVENT
UID:69e53b28a669d
DTSTAMP:20260419T202928Z
DTSTART:20230330T133000Z
DTEND:20230330T153000Z
LOCATION:
SUMMARY:Ontmoetingscafé Hintham presenteert : De Bossche Jankers
DESCRIPTION:Op de 5e donderdag van de maand organiseren we een gezellige mi
 ddag . deze keer hebben we het gezellige dameskoor De jankers uitgenodigd. 
 Deelname € 5\, 00 incl. een drankje en iets lekkers. u bent van harte wel
 kom\,  vrijwilligers van het ontmoetingscafé Hintham Bewaren Bewaren Bewar
 en Bewaren Bewaren Bewaren Bewaren Bewaren[..]\nhttps://debiechten.nl/event
 s/ontmoetingscafe-hintham-presenteert-de-bossche-jankers/
URL:https://debiechten.nl/events/ontmoetingscafe-hintham-presenteert-de-bossche-jankers/
END:VEVENT
END:VCALENDAR