BEGIN:VCALENDAR
VERSION:2.0
PRODID:-//eventon.com NONSGML v1.0//EN
CALSCALE:GREGORIAN
METHOD:PUBLISH
BEGIN:VEVENT
UID:69e5e9c876041
DTSTAMP:20260420T085432Z
DTSTART:20230430T133000Z
DTEND:20230430T163000Z
LOCATION:
SUMMARY:Dansmiddag op zondag
DESCRIPTION:We hebben Harrie Hagen bereid gevonden om ook eens op een zonda
 gmiddag een gezellige dansmiddag voor senioren te organiseren. dat gaat geb
 euren op 30 april 2023 u bent van harte welkom van 13:30 tot 16:30 in de va
 n Goghzaal in De Biechten. Harrie verzorgt de muziek en zal afwisselende nu
 mmers[..]\nhttps://debiechten.nl/events/dansmiddag-op-zondag-2/
URL:https://debiechten.nl/events/dansmiddag-op-zondag-2/
END:VEVENT
END:VCALENDAR