BEGIN:VCALENDAR
VERSION:2.0
PRODID:-//eventon.com NONSGML v1.0//EN
CALSCALE:GREGORIAN
METHOD:PUBLISH
BEGIN:VEVENT
UID:69e9ef677c0df
DTSTAMP:20260423T100735Z
DTSTART:20260903T170000Z
DTEND:20260903T190000Z
LOCATION:
SUMMARY:Sociaal Restaurant Hintham
DESCRIPTION:Dit initiatief is door vrijwilligers opgestart om iedereen in d
 e gelegenheid te stellen om tegen een lage prijs deel te kunnen nemen aan e
 en gezellig 3 gangen diner. Iedere maand worden er andere gerechten geserve
 erd. De kok en zijn team van vrijwilligers zullen hier zeker hun best voor 
 doen. Mede[..]\nhttps://debiechten.nl/events/sociaal-restaurant-hintham-43/
URL:https://debiechten.nl/events/sociaal-restaurant-hintham-43/
END:VEVENT
END:VCALENDAR